BEGIN:VCALENDAR
VERSION:2.0
PRODID:-//wp-events-plugin.com//7.2.3.1//EN
BEGIN:VEVENT
UID:134@ecampus.aicel.org
DTSTART;TZID=Europe/Rome:20201127T110000
DTEND;TZID=Europe/Rome:20201127T123000
DTSTAMP:20231122T153135Z
URL:https://ecampus.aicel.org/corsi/kpi-ed-ecommerce-parametri-vitali-per-
 la-vita-per-proprio-store-online
SUMMARY:KPI ed ecommerce: parametri vitali per la vita del proprio store on
 line -  - 27 Nov 20 11:00
DESCRIPTION:Scopriamo quali sono i principali indicatori di salute del prop
 rio ecommerce\, come impostarli e monitorare
ATTACH;FMTTYPE=image/jpeg:https://ecampus.aicel.org/wp-content/uploads/kpi
 2.jpeg
CATEGORIES:Gli aspetti pratici dell’e-commerce
END:VEVENT
BEGIN:VTIMEZONE
TZID:Europe/Rome
X-LIC-LOCATION:Europe/Rome
BEGIN:STANDARD
DTSTART:20201025T020000
TZOFFSETFROM:+0200
TZOFFSETTO:+0100
TZNAME:CET
END:STANDARD
END:VTIMEZONE
END:VCALENDAR