BEGIN:VCALENDAR
VERSION:2.0
PRODID:-//wp-events-plugin.com//7.2.3.1//EN
BEGIN:VEVENT
UID:85@ecampus.aicel.org
DTSTART:20170609T110000Z
DTEND:20170609T120000Z
DTSTAMP:20170602T213336Z
URL:https://ecampus.aicel.org/corsi/incoscienti-imprenditori-che-si-aggira
 no-nella-rete-crescono
SUMMARY:Incoscienti imprenditori che si aggirano nella rete crescono - Bolo
 gna\, SMAU - 9 Giu 17 13:00
DESCRIPTION:\n\nRelatore: Raimondo Bruschi\n\nLocation: SMAU\, Arena Indust
 ria 4.0\, Bologna Fiere\n\nFar nascere\, o crescere l'esistente\, e-commer
 ce con le misure finanziarie e fiscali a sostegno della crescita e innovaz
 ione con un approccio analitico e strutturato.\nSono sempre stati problemi
  o obblighi della scelta imprenditoriale: le certezze e sicurezze di succe
 sso o tutele nel fallimento\, il credito dal sistema bancario per dare spa
 zio ad investimenti\, la pianificazione d'intervento e sicurezza dei fabbi
 sogni economici pluriennali\, comparati alla strategia commerciale e innov
 ativa applicabile.\nIn estrema sintesi: Valutare ed evitare il rischio di 
 schiantarsi\, per decollare con successo e maggiore certezza è l'aspirazi
 one di ogni impresa.\n\nL’intervento prevedere una panoramica completa a
  partire dai presupposti richiesti e necessari per costituire veicoli soci
 etari atti a poter accedere a forme di finanziamento garantito sul sistema
  bancario affiancati da modelli di business collaudati e suffragati da ind
 agini di mercato con business plan. Un merge informativo per affrontare me
 rcati on line che richiedono atteggiamenti prudenziali\, attenti e di fort
 e analisi\, prima di partire o per crescere.\n\n&nbsp\;\n\nISCRIZIONE GRAT
 UITA dal portale SMAU: clicca qui!\n\n\nNON HAI IL BIGLIETTO PER SMAU?\nT
 E LO REGALA AICEL!\nL'ingresso a SMAU BOLOGNA è offerto da AICEL - Assoc
 iazione Italiana Commercio Elettronico.\nPer entrare gratuitamente\, usa i
  nostri Biglietti VIP!
CATEGORIES:Gli aspetti pratici dell’e-commerce,Vendere Grazie al
 Digitale
LOCATION:Bologna\, SMAU\, Via della FIera\, 20\, Bologna\, BO\, 40127\, Emi
 lia\, Italia
GEO:44.5100997;11.36948469999993
X-APPLE-STRUCTURED-LOCATION;VALUE=URI;X-ADDRESS=Via della FIera\, 20\, Bolo
 gna\, BO\, 40127\, Emilia\, Italia;X-APPLE-RADIUS=100;X-TITLE=Bologna\, SM
 AU:geo:44.5100997,11.36948469999993
END:VEVENT
END:VCALENDAR