BEGIN:VCALENDAR
VERSION:2.0
PRODID:-//wp-events-plugin.com//7.2.3.1//EN
BEGIN:VEVENT
UID:126@ecampus.aicel.org
DTSTART:20201008T140000Z
DTEND:20201008T150000Z
DTSTAMP:20231122T153045Z
URL:https://ecampus.aicel.org/corsi/il-valore-delle-competenze-digitali-ne
 lletica-dellinnovazione-e-della-digital-transformation
SUMMARY:Il Valore Delle Competenze Digitali Nell’etica Dell’innovazione
  E Della Digital Transformation -  - 8 Ott 20 16:00
DESCRIPTION:Le ICT (Information and Communication Technologies) come strume
 nto fondamentale attraverso cui favorire l’inclusione sociale e la citta
 dinanza attiva per una maggiore e più efficace partecipazione ai processi
  democratici\,
ATTACH;FMTTYPE=image/jpeg:https://ecampus.aicel.org/wp-content/uploads/igf
 -2020-italia.jpg
CATEGORIES:Convegni,Tavola Rotonda
LOCATION:http://www.igfitalia2020.it/registrazione
END:VEVENT
END:VCALENDAR