BEGIN:VCALENDAR
VERSION:2.0
PRODID:-//wp-events-plugin.com//7.2.3.1//EN
BEGIN:VEVENT
UID:14@ecampus.aicel.org
DTSTART:20120512T073000Z
DTEND:20120512T110000Z
DTSTAMP:20120424T103134Z
URL:https://ecampus.aicel.org/corsi/il-mercato-dei-sistemi-di-pagamento
SUMMARY:Il mercato dei sistemi di pagamento - Desenzano - 12 Mag 12 09:30
DESCRIPTION:Relatore.\n\nDevid Jegerson.\n\nIl mercato dei sistemi di pagam
 ento\n\n- i pagamenti elettronici\n- chi sono e come funzionano\n- la cate
 na del valore\n\nI sistemi di pagamento eCommerce\n\n- l'offerta del merca
 to e attori\n- integrazione dei pagamenti nel proprio sito eCommerce\n\nLa
  sicurezza\n\n- La sicurezza nei pagamenti ecommerce (3DSecure\, PCI)\n- c
 ome minimizzare le frodi e le contestazioni
CATEGORIES:Gli aspetti pratici dell’e-commerce
LOCATION:Desenzano\, Via Giosuè Carducci\, 4\, Desenzano del Garda\, Bresc
 ia\, 25015\, Lombardia\, Italia
GEO:45.4692651;10.539854500000047
X-APPLE-STRUCTURED-LOCATION;VALUE=URI;X-ADDRESS=Via Giosuè Carducci\, 4\, 
 Desenzano del Garda\, Brescia\, 25015\, Lombardia\, Italia;X-APPLE-RADIUS=
 100;X-TITLE=Desenzano:geo:45.4692651,10.539854500000047
END:VEVENT
END:VCALENDAR