BEGIN:VCALENDAR
VERSION:2.0
PRODID:-//wp-events-plugin.com//7.2.3.1//EN
BEGIN:VEVENT
UID:149@ecampus.aicel.org
DTSTART;TZID=Europe/Rome:20210507T110000
DTEND;TZID=Europe/Rome:20210507T120000
DTSTAMP:20210430T124915Z
URL:https://ecampus.aicel.org/corsi/il-commercio-online-uno-sguardo-sui-ma
 rketplace
SUMMARY:La dura vita del commercio online. Uno sguardo attento alla vendita
  sui marketplace -  - 7 Mag 21 11:00
DESCRIPTION:Tra competizione serrata\, battaglie di prezzo\, vendite cross 
 border in crescita\, i consumatori vedono i marketplace come un grande mag
 azzino con gamma ampia\, contenuti e metodi di pagamento migliori della co
 ntroparte al dettaglio.\nI consumatori non fanno distinzione e il successo
  dipende da chi li conquista per primo.
ATTACH;FMTTYPE=image/jpeg:https://ecampus.aicel.org/wp-content/uploads/aic
 el-La_dura_vita_del_commercio_online-nl.png
CATEGORIES:Vendere Grazie al Digitale
END:VEVENT
BEGIN:VTIMEZONE
TZID:Europe/Rome
X-LIC-LOCATION:Europe/Rome
BEGIN:DAYLIGHT
DTSTART:20210328T030000
TZOFFSETFROM:+0100
TZOFFSETTO:+0200
TZNAME:CEST
END:DAYLIGHT
END:VTIMEZONE
END:VCALENDAR