BEGIN:VCALENDAR
VERSION:2.0
PRODID:-//wp-events-plugin.com//7.2.3.1//EN
BEGIN:VEVENT
UID:59@ecampus.aicel.org
DTSTART:20150525T150000Z
DTEND:20150525T170000Z
DTSTAMP:20231122T152523Z
URL:https://ecampus.aicel.org/corsi/il-codice-del-consumo-nellecommerce
SUMMARY:Il Codice del Consumo nell'eCommerce - Evento On Line - 25 Mag 15 1
 7:00
DESCRIPTION:Seminario per approfondire e comprendere come vendere nel pieno
  rispetto del Codice del Consumo. Durante il seminario verranno esaminati 
 casi reali di buon eCommerce e data evidenza agli errori più comuni risco
 ntrabili sui siti di commercio elettronico
ATTACH;FMTTYPE=image/jpeg:https://ecampus.aicel.org/wp-content/uploads/Nuo
 ve-Regole-eCommerce.jpg
CATEGORIES:Gli aspetti pratici dell’e-commerce
LOCATION:Evento On Line\, Google\, Webinar [Meet]\, Italia
X-APPLE-STRUCTURED-LOCATION;VALUE=URI;X-ADDRESS=Google\, Webinar [Meet]\, I
 talia;X-APPLE-RADIUS=100;X-TITLE=Evento On Line:geo:0,0
END:VEVENT
END:VCALENDAR