BEGIN:VCALENDAR
VERSION:2.0
PRODID:-//wp-events-plugin.com//7.2.3.1//EN
BEGIN:VEVENT
UID:40@ecampus.aicel.org
DTSTART:20141020T070000Z
DTEND:20141020T160000Z
DTSTAMP:20140727T122634Z
URL:https://ecampus.aicel.org/corsi/i-social-media-per-vendere-le-nuove-fr
 ontiere-del-commercio-elettronico
SUMMARY:I Social Media per Vendere: le Nuove Frontiere del Commercio Elettr
 onico - Desenzano\, Hotel Nazionale - 20 Ott 14 09:00
DESCRIPTION:DOCENTE: ANDREA BOSCARO The Vortex srl\n\nOBIETTIVI\n\n	Diffond
 ere la conoscenza dei nuovi social media presso lo staff\;\n	Verificare ca
 si di successo e di insuccesso di social commerce\, in Italia e all'estero
 \n	Definire una strategia di m-commerce sulla base dello scenario esistent
 e\n	Presentare le proprie offerte in modo appropriato sui tablet\n\nDATA: 
 20 OTTOBRE 2014\n\nDURATA: dalle ore 09.00 alle ore 13.00 e dalle ore 14.0
 0 alle ore 18.00\n\nSEDE: Desenzano D/G (BS)\, Hotel Nazionale\, Viale Mar
 coni 23\n\nPROGRAMMA\n\n1° PARTE.  I social media per vendere.\n\n	Cambi
 amento del panorama media: come sta cambiando la fruizione dei mezzi - dal
  punto di vista dell'intensità e della qualità - a seguito della diffusi
 one dei social media e degli smartphone. I numeri in campo e i modelli che
  sottendono.\n\n\n	Dal SEO al social media marketing. Come il SEO è cambi
 ato con l'avvento dei social media. Il ruolo della Universal Search. Integ
 razione fra Google+ e Google Search: l'ascesa dell'Author Rank. Come prepa
 rarsi alla funzionalità di ricerca di Facebook (“Graph Search”).\n\n\
 n	Vendere grazie ai social: esempi da seguire e da evitare di uso dei soci
 al media per il commercio elettronico. I social plugin e le applicazioni O
 penSocial al servizio della personalizzazione dell'esperienza di navigazio
 ne e scelta dell'utente.\n\n\n	Vendere sui social: applicazioni ed ambient
 i di social commerce. Come esserci\, come integrare il sito con le aree di
  social commerce. Le piattaforme americane e le soluzioni oggi presenti in
  Italia. Gli errori da non commettere dal punto di vista marketing e comun
 icazione.\n\n\n	Vendere sui social media: aspetti tecnici e piani editoria
 li di iniziative di vendita (non solo e-commerce) su Facebook\, Twitter eY
 outube.\n\n\n	Dai social media alla social curation. Storify\, Pinterest e
  le piattaforme protagoniste del 2014. Come usarle per fare content market
 ing al servizio del SEO e delle vendite.\n\n&nbsp\;\n\n2° PARTE. Il mobil
 e commerce. Come cambiano le vendite con smartphone e tablet.\n\n	Il mobil
 e. Sistemi operativi\, devices\, modelli di business: impariamo a destregg
 iarci grazie alle buone pratiche esistenti.\n\n\n	I social geolocalizzati.
  Come servirsene per attirarne nuovi clienti e premiare quelli esistenti.\
 n\n\n	L'm-commerce. Ottimizzazione del sito\, applicazioni e utilizzo degl
 i ambienti dove è privilegiato l'acquisto di impulso. Adattiamo la nostra
  proposizione e-commerce al differente modo di fruizione dei contenuti da 
 parte dell'utente.\n\n\n	Il futuro è nei tablet? Come cambia l'e-commerce
  e il marketing locale con la diffusione degli iPad e dei tablet. Google C
 atalogs. Le applicazioni da usare su AppStore ed Google Play.\n\nLa quota 
 di partecipazione è comprensiva di:\nWelcome Coffee\nMateriale didattico
 \nAttestato di partecipazione\nPrenotazione alberghieraLa Segreteria AICEL
  è a disposizione dei partecipanti per prenotazioni alberghiere a tariffe
  preferenziali nei limiti delle disponibilità.\n\n&nbsp\;
CATEGORIES:Vendere Grazie al Digitale
LOCATION:Desenzano\, Hotel Nazionale\, Viale Marconi\, 23\, Desenzano del G
 arda\, Brescia\, 25015\, Lombardia\, Italia
GEO:45.4684347;10.53603499999997
X-APPLE-STRUCTURED-LOCATION;VALUE=URI;X-ADDRESS=Viale Marconi\, 23\, Desenz
 ano del Garda\, Brescia\, 25015\, Lombardia\, Italia;X-APPLE-RADIUS=100;X-
 TITLE=Desenzano\, Hotel Nazionale:geo:45.4684347,10.53603499999997
END:VEVENT
END:VCALENDAR