BEGIN:VCALENDAR
VERSION:2.0
PRODID:-//wp-events-plugin.com//7.2.3.1//EN
BEGIN:VEVENT
UID:53@ecampus.aicel.org
DTSTART:20141215T140000Z
DTEND:20141215T160000Z
DTSTAMP:20231122T152420Z
URL:https://ecampus.aicel.org/corsi/hangout-reputazione-online-e-facebook-
 marketing
SUMMARY:(Hangout) REPUTAZIONE ONLINE E FACEBOOK MARKETING -  - 15 Dic 14 16
 :00
DESCRIPTION:DOCENTE: ANDREA BOSCARO\n\n\nSISTEMA: Hangout (è necessario u
 n account Google+ )\n\nPOSTI DISPONIBILI: 8\n\nDurata: 2 ore.\n\nPROGRAM
 MA:\n\nMODULO 4.\n\n	Le criticità dei social media: la privacy\, il copyr
 ight\, la reputazione online.\n\n\n	Le piattaforme e come utilizzarle. I t
 re gradi del social media marketing: sentiment analysis\, partecipazione\,
  animazione di pagine e profili social. Focus su Facebook.\n\n\n	Scrivere 
 per i social media. Comprendere l'algoritmo che presiede all'ordinamento d
 ei risultati su Facebook (“Edgerank”) per massimizzare i risultati del
  nostro lavoro. Le metriche del social media marketing.\n\n\n	Come gli e-c
 ommerce utilizzano oggi Facebook.\n\n
CATEGORIES:Gli aspetti pratici dell’e-commerce,Vendere Grazie al
 Digitale
END:VEVENT
END:VCALENDAR