BEGIN:VCALENDAR
VERSION:2.0
PRODID:-//wp-events-plugin.com//7.2.3.1//EN
BEGIN:VEVENT
UID:50@ecampus.aicel.org
DTSTART:20141215T070000Z
DTEND:20141215T084500Z
DTSTAMP:20231122T152322Z
URL:https://ecampus.aicel.org/corsi/hangout-promuovere-le-vendite-online-c
 on-il-web-marketing-2
SUMMARY:[Hangout] L'E-COMMERCE E I MOTORI DI RICERCA. -  - 15 Dic 14 09:00
DESCRIPTION:approfondire e comprendere gli strumenti indispensabile a monit
 orare ed incrementare le vendite del tuo eStore
CATEGORIES:Gli aspetti pratici dell’e-commerce,Vendere Grazie al
 Digitale
END:VEVENT
END:VCALENDAR