BEGIN:VCALENDAR
VERSION:2.0
PRODID:-//wp-events-plugin.com//7.2.3.1//EN
BEGIN:VEVENT
UID:82@ecampus.aicel.org
DTSTART:20170526T130000Z
DTEND:20170526T140000Z
DTSTAMP:20231122T152650Z
URL:https://ecampus.aicel.org/corsi/hangout-le-commerce-a-norma
SUMMARY:[Hangout] L'e-commerce a norma - Evento On Line - 26 Mag 17 15:00
DESCRIPTION:Seminario per approfondire e comprendere gli accorgimenti da me
 ttere in atto per rendere un sito web conforme alla normativa vigente. L'i
 ntervento si focalizzerà sulla normativa italiana in rapporto ai siti e-c
 ommerce.
CATEGORIES:Gli aspetti pratici dell’e-commerce
LOCATION:Evento On Line\, Google\, Webinar [Meet]\, Italia
X-APPLE-STRUCTURED-LOCATION;VALUE=URI;X-ADDRESS=Google\, Webinar [Meet]\, I
 talia;X-APPLE-RADIUS=100;X-TITLE=Evento On Line:geo:0,0
END:VEVENT
END:VCALENDAR