BEGIN:VCALENDAR
VERSION:2.0
PRODID:-//wp-events-plugin.com//7.2.3.1//EN
BEGIN:VEVENT
UID:52@ecampus.aicel.org
DTSTART:20141215T090000Z
DTEND:20141215T104500Z
DTSTAMP:20231122T151948Z
URL:https://ecampus.aicel.org/corsi/hangout-la-web-analytics
SUMMARY:LA WEB-ANALYTICS -  - 15 Dic 14 11:00
DESCRIPTION:Un Hangout per approfondire e comprendere gli strumenti indis
 pensabile a monitorare ed incrementare le vendite del tuo eStore:\n\nDOCEN
 TE: ANDREA BOSCARO The Vortex srl\n\nSISTEMA: Hangout (è necessario un 
 account Google+ )\n\nPOSTI DISPONIBILI: 8\n\nPROGRAMMA\n\nMODULO 2.\n\n	
 Tracciare tutto per comprendere meglio i soldi ed il tempo speso online: i
  limiti e le opportunità di Google Analytics.\n\n\n	Gli Obiettivi e le Co
 nversioni: come configurare correttamente un account di Google Analytics p
 er metterlo davvero al servizio del web-marketing\n\n\n	I Rapporti: Pubbli
 co\, Acquisizione e Comportamento. Impariamo a leggere ed interpretare cor
 rettamente i dati.\n\n\n	Conversioni Indirette e Modelli di Attribuizione:
  le funzionalità avanzate di Google Analytics.\n
CATEGORIES:Vendere Grazie al Digitale
END:VEVENT
END:VCALENDAR