BEGIN:VCALENDAR
VERSION:2.0
PRODID:-//wp-events-plugin.com//7.2.3.1//EN
BEGIN:VEVENT
UID:55@ecampus.aicel.org
DTSTART:20150428T150000Z
DTEND:20150428T170000Z
DTSTAMP:20231122T152459Z
URL:https://ecampus.aicel.org/corsi/hangout-fare-e-commerce-in-maniera-sic
 ura-obblighi-e-diritti-del-merchant
SUMMARY:Fare e-commerce in maniera sicura: obblighi e diritti del merchant 
 - Evento On Line - 28 Apr 15 17:00
DESCRIPTION:Un Hangout di 2 ore per approfondire e comprendere gli obbligh
 i e i diritti dei merchant.\n\nDOCENTE: ANDREA SPEDALE  AICEL\n\nSISTEMA
 : Hangout (è necessario un account Google+ )\n\nPOSTI DISPONIBILI: 10\n\n
 \n\nPROGRAMMA\n\n	La normativa di Riferimento:\n\n	il D.Lgs 206/2005 e su
 ccessive modifiche (Codice del Consumo)\;\n	Codice Civile\;\n	Legge 196/20
 03 e successive modificazioni (Legge Privacy)\;\n\n\n	Obblighi Informativi
  da pubblicare nell'eStore\n\n	Identificazione del Negoziante\;\n	Condizio
 ni di Vendita\;\n	Recesso\;\n	Policy: privacy e cookies\;\n\n\n	SonoSicuro
 : il certificato di qualità dell'ecommerce\;\n	Domande e Risposte\n\n&nbs
 p\;\nA CHI SI RIVOLGE?\nImprenditori\, aziende\, PMI che intendono entrare
  nel mondo ecommerce.\neStore Manager e Web marketing managers.\nLiberi pr
 ofessionisti e consulenti aziendali.\n\nLISTA D'ATTESA\nPrenotando oggi\, 
 sarai inserito nella lista di attesa. Potrai partecipare all'Hangout solo 
 in caso in cui ci fossero rinunce da parte di altri.\nIl giorno dell'Hango
 ut\, gli iscritti non presenti all'appuntamento verranno tolti dall'invito
  e si procederà all'invito prelevando le iscrizioni dalla lista di attesa
 .
ATTACH;FMTTYPE=image/jpeg:https://ecampus.aicel.org/wp-content/uploads/459
 4795335_34ed36fd68.jpg
CATEGORIES:Gli aspetti pratici dell’e-commerce
LOCATION:Evento On Line\, Google\, Webinar [Meet]\, Italia
X-APPLE-STRUCTURED-LOCATION;VALUE=URI;X-ADDRESS=Google\, Webinar [Meet]\, I
 talia;X-APPLE-RADIUS=100;X-TITLE=Evento On Line:geo:0,0
END:VEVENT
END:VCALENDAR