BEGIN:VCALENDAR
VERSION:2.0
PRODID:-//wp-events-plugin.com//7.2.3.1//EN
BEGIN:VEVENT
UID:51@ecampus.aicel.org
DTSTART:20141215T121500Z
DTEND:20141215T140000Z
DTSTAMP:20231122T152337Z
URL:https://ecampus.aicel.org/corsi/hangout-dalla-web-analytics-alla-socia
 l-media-analytics
SUMMARY:(Hangout) IL MARKETING DIGITALE -  - 15 Dic 14 14:15
DESCRIPTION:DOCENTE: ANDREA BOSCARO The Vortex srl\n\n\nSISTEMA: Hangout 
 (è necessario un account Google+ )\n\nPOSTI DISPONIBILI: 8\n\nPROGRAMMA
 :\n\n	Accelerare le vendite online grazie agli strumenti di web-marketing:
  quali sono\, come affrontarli.\n\n\n	I link sponsorizzati: modalità di p
 ianificazione ed accortezza da adottare nell'uso di Google Adwords e Faceb
 ook Ads.\n\n\n	L'e-mail marketing: dalle newsletter alle mail “triggered
 ”.\n\n\n	Il retargeting e le nuove forme di pubblicità online a perform
 ance.\n\n
CATEGORIES:Vendere Grazie al Digitale
END:VEVENT
END:VCALENDAR