BEGIN:VCALENDAR
VERSION:2.0
PRODID:-//wp-events-plugin.com//7.2.3.1//EN
BEGIN:VEVENT
UID:89@ecampus.aicel.org
DTSTART:20170630T140000Z
DTEND:20170630T150000Z
DTSTAMP:20231122T152721Z
URL:https://ecampus.aicel.org/corsi/hangout-come-incrementare-le-tue-vendi
 te-online-con-google-shopping
SUMMARY:[Diretta Youtube] Come incrementare le tue vendite online con Googl
 e Shopping - Evento OnLine [Diretta Youtube] - 30 Giu 17 16:00
DESCRIPTION:Un Hangout Una Diretta Youtube di 1 ore per comprendere come 
 incrementare le tue vendite online con Google Shopping\n\n\n\nDOCENTE: DAN
 IELE RUTIGLIANO\n\nDATA: venerdì 30 giugno 2017\, dalle 16:00 alle 17:0
 0\n\n\n\nSISTEMA: diretta youtube\n\nPOSTI DISPONIBILI: --\n\n&nbsp\;\n\nG
 oogle Shopping è uno strumento ad oggi fondamentale ed indispensabile per
  chi desidera o già vende online. Con Google Shopping è possibile pubbli
 care annunci di prodotto (titolo\, foto e prezzo) nei risultati di ricerca
  di Google. Se correttamente impostato e seguito\, può rappresentare un u
 lteriore canale di vendita e di business per il proprio ecommerce.\nDurant
 e il workshop vedremo come aprire un account Merchant e come ottimizzare u
 na campagna Shopping.\n\n&nbsp\;\nA CHI SI RIVOLGE?\nImprenditori\, aziend
 e\, PMI già attive nel mondo digitale e dell'ecommerce\;\neStore Manager
  e Web marketing managers.\n&nbsp\;\nPREZZO: GRATUITO\n
ATTACH;FMTTYPE=image/jpeg:https://ecampus.aicel.org/wp-content/uploads/goo
 gle-shopping.png
CATEGORIES:Gli aspetti pratici dell’e-commerce
LOCATION:Evento OnLine [Diretta Youtube]\, Via F. Lana\, 5\, Flero\, BS\, 2
 5020\, Lombardia\, Italia
GEO:45.4839371;10.149830500000007
X-APPLE-STRUCTURED-LOCATION;VALUE=URI;X-ADDRESS=Via F. Lana\, 5\, Flero\, B
 S\, 25020\, Lombardia\, Italia;X-APPLE-RADIUS=100;X-TITLE=Evento OnLine [D
 iretta Youtube]:geo:45.4839371,10.149830500000007
END:VEVENT
END:VCALENDAR