BEGIN:VCALENDAR
VERSION:2.0
PRODID:-//wp-events-plugin.com//7.2.3.1//EN
BEGIN:VEVENT
UID:171@ecampus.aicel.org
DTSTART;TZID=Europe/Rome:20231129T160000
DTEND;TZID=Europe/Rome:20231129T170000
DTSTAMP:20231129T225300Z
URL:https://ecampus.aicel.org/corsi/guida-allespansione-europea-e-commerce
SUMMARY:GUIDA ALL'ESPANSIONE EUROPEA E-COMMERCE -  - 29 Nov 23 16:00
DESCRIPTION:&nbsp\;\n\nInsieme a Mariangela d'Angelico\, Account Manager 
 Avask\, illustreremo le opportunità di crescita per gli e-commerce itali
 ani sui mercati stranieri\, con particolare riferimento all’Europa\, e a
 llo stesso tempo come essere in regola con i requisiti fiscali nei vari Pa
 esi.\n\nSarà l’occasione buona per chiarire: il corretto utilizzo del 
 regime OSS\, la convenienza e la necessità di aprire partite IVA estere e
  infine come adeguarsi alla regolamentazioni ambientali\, EPR\, in Francia
 \, Germania e Spagna.\n\nLa presentazione si concluderà discutendo brevem
 ente del supporto che AVASK\, nuovo partner AICEL\, può fornire ai soci 
 AICEL in termini di soluzioni fiscali personalizzate.\n\n[WPCR_SHOW POSTID
 ="3693" NUM="5" PAGINATE="1" PERPAGE="5" SHOWFORM="1" HIDEREVIEWS="0" HIDE
 RESPONSE="0" SNIPPET="" MORE="" HIDECUSTOM="0" ]
ATTACH;FMTTYPE=image/jpeg:https://ecampus.aicel.org/wp-content/uploads/GUI
 DA-ALLESPANSIONE-EUROPEA-E-COMMERCE.png
CATEGORIES:Gli aspetti pratici dell’e-commerce
LOCATION:http://wgjeded.deliverypro.net/trk/click/@f*025j2F7ib38j2f2S1*3=0*
 83f4f3e4b9f6b*6,3*8efr2fbs9d3a9ffs0d1f9*f=0*512478b9832429133*0,8*f7f@elb3
 fib36x3b8af42*b=9*3393f2021993f4085*2,7*bn8l2i2d1*3=0989f6f5e6b5f0b46,3*8c
 fi2db*9=3895f1001695f0075,2*7lbi8d2*2=16360787f0f6e5b2f,b*6k3U83fL2Ib39f3n
 9of30*1=99f-0
END:VEVENT
BEGIN:VTIMEZONE
TZID:Europe/Rome
X-LIC-LOCATION:Europe/Rome
BEGIN:STANDARD
DTSTART:20231029T020000
TZOFFSETFROM:+0200
TZOFFSETTO:+0100
TZNAME:CET
END:STANDARD
END:VTIMEZONE
END:VCALENDAR