BEGIN:VCALENDAR
VERSION:2.0
PRODID:-//wp-events-plugin.com//7.2.3.1//EN
BEGIN:VEVENT
UID:146@ecampus.aicel.org
DTSTART;TZID=Europe/Rome:20210326T120000
DTEND;TZID=Europe/Rome:20210326T130000
DTSTAMP:20210409T071821Z
URL:https://ecampus.aicel.org/corsi/google-my-business-ed-e-commerce-quali
 -opportunita
SUMMARY:Google My Business ed e-commerce: quali opportunità? -  - 26 Mar 2
 1 12:00
DESCRIPTION:Google My Business come opportunità per le aziende che gestisc
 ono un e-commerce
ATTACH;FMTTYPE=image/jpeg:https://ecampus.aicel.org/wp-content/uploads/aic
 el-corso-gianluca-nl.jpg
CATEGORIES:Gli aspetti pratici dell’e-commerce,Vendere Grazie al
 Digitale
END:VEVENT
BEGIN:VTIMEZONE
TZID:Europe/Rome
X-LIC-LOCATION:Europe/Rome
BEGIN:STANDARD
DTSTART:20201025T020000
TZOFFSETFROM:+0200
TZOFFSETTO:+0100
TZNAME:CET
END:STANDARD
END:VTIMEZONE
END:VCALENDAR