BEGIN:VCALENDAR
VERSION:2.0
PRODID:-//wp-events-plugin.com//7.2.3.1//EN
BEGIN:VEVENT
UID:170@ecampus.aicel.org
DTSTART;TZID=Europe/Rome:20230223T173000
DTEND;TZID=Europe/Rome:20230223T183000
DTSTAMP:20231127T202452Z
URL:https://ecampus.aicel.org/corsi/focus-pratico-su-privacy-cookie-e-bann
 er-da-adempimenti-ad-opportunita
SUMMARY:Focus pratico su Privacy\, cookie e banner: da adempimenti ad oppor
 tunità -  - 23 Feb 23 17:30
DESCRIPTION:Webinar informativo su privacy\, cookie e banner
ATTACH;FMTTYPE=image/jpeg:https://ecampus.aicel.org/wp-content/uploads/Blu
 e-Modern-Digital-Business-Live-Webinar-Meet-Facebook-Post-2.png
CATEGORIES:Gli aspetti pratici dell’e-commerce
END:VEVENT
BEGIN:VTIMEZONE
TZID:Europe/Rome
X-LIC-LOCATION:Europe/Rome
BEGIN:STANDARD
DTSTART:20221030T020000
TZOFFSETFROM:+0200
TZOFFSETTO:+0100
TZNAME:CET
END:STANDARD
END:VTIMEZONE
END:VCALENDAR