BEGIN:VCALENDAR
VERSION:2.0
PRODID:-//wp-events-plugin.com//7.2.3.1//EN
BEGIN:VEVENT
UID:106@ecampus.aicel.org
DTSTART:20181026T143000Z
DTEND:20181026T163000Z
DTSTAMP:20231122T152744Z
URL:https://ecampus.aicel.org/corsi/fattura-elettronica-ecommerce
SUMMARY:La Fattura Elettronica nell'e-commerce - Evento On Line - 26 Ott 18
  16:30
DESCRIPTION:Fattura elettronica nell'eCommerce: tutto ciò che devi sapere 
 (i vantaggi\, le giuste strategie)
ATTACH;FMTTYPE=image/jpeg:https://ecampus.aicel.org/wp-content/uploads/fat
 tura_320565494-1200x7001.jpg
CATEGORIES:Gli aspetti pratici dell’e-commerce
LOCATION:Evento On Line\, Google\, Webinar [Meet]\, Italia
X-APPLE-STRUCTURED-LOCATION;VALUE=URI;X-ADDRESS=Google\, Webinar [Meet]\, I
 talia;X-APPLE-RADIUS=100;X-TITLE=Evento On Line:geo:0,0
END:VEVENT
END:VCALENDAR