BEGIN:VCALENDAR
VERSION:2.0
PRODID:-//wp-events-plugin.com//7.2.3.1//EN
BEGIN:VEVENT
UID:70@ecampus.aicel.org
DTSTART:20170330T130000Z
DTEND:20170330T135000Z
DTSTAMP:20170316T103603Z
URL:https://ecampus.aicel.org/corsi/far-decollare-il-proprio-progetto-onli
 ne-sfruttando-la-concorrenza
SUMMARY:Far decollare il proprio progetto online sfruttando la concorrenza 
 - Padova\, SMAU - 30 Mar 17 15:00
DESCRIPTION:Docente: Filippo Sogus\n\nPoter emergere online non è per null
 a semplice\, non corri da solo! Ci sono però degli elementi che possono a
 iutarci a distinguerci dagli altri concorrenti e spostare l’attenzione d
 elle persone sul nostro brand piuttosto che sul mio competitor.\n\nVedremo
  quindi come:\n• distinguere il vero competitor da analizzare\n• anali
 zzare gli elementi di competitività\n• redigere un piano operativo per 
 differenziare il nostro progetto\n• individuare e sfruttare le keyword c
 ompetitive\n• pianificare una strategia SEO e SEM grazie ai dati storici
  dei concorrenti\n• l’importanza dell’inbound marketing\n• tool pe
 r l’analisi dei concorrenti e analisi intelligente dei dati\n\nQuesto wo
 rkshop promosso da AICEL è particolarmente rivolto agli imprenditori che 
 vogliono avviare o migliorare un progetto di business online. Analizzeremo
  assieme strategie operative e tool che ne faciliteranno il processo.\n\nI
 scriviti qui: SMAU PADOVA\n\n&nbsp\;\n  Il workshop proposto rientra fra 
 le attività del progetto “E-xcellencE” - L'e-commerce di eccellenza 
 approvato da AgID - Agenzia per l'Italia Digitale
CATEGORIES:Gli aspetti pratici dell’e-commerce,Vendere Grazie al
 Digitale
LOCATION:Padova\, SMAU\, N. Tommaseo\, 59\, Padova\, PD\, 35131\, Veneto\, 
 Italia
GEO:45.4137995;11.888617100000033
X-APPLE-STRUCTURED-LOCATION;VALUE=URI;X-ADDRESS=N. Tommaseo\, 59\, Padova\,
  PD\, 35131\, Veneto\, Italia;X-APPLE-RADIUS=100;X-TITLE=Padova\, SMAU:geo
 :45.4137995,11.888617100000033
END:VEVENT
END:VCALENDAR