BEGIN:VCALENDAR
VERSION:2.0
PRODID:-//wp-events-plugin.com//7.2.3.1//EN
BEGIN:VEVENT
UID:195@ecampus.aicel.org
DTSTART;TZID=Europe/Rome:20240926T140000
DTEND;TZID=Europe/Rome:20240926T150000
DTSTAMP:20240521T161246Z
URL:https://ecampus.aicel.org/corsi/european-accessibility-act-cosa-cambia
 -per-ecommerce
SUMMARY:European Accessibility Act (EAA): cosa cambia per l'eCommerce -  - 
 26 Set 24 14:00
DESCRIPTION:L'EAA richiede che i siti web e le app siano progettati in mod
 o da essere compatibili con tecnologie assistive\, come screen reader e te
 sti alternativi per immagini e video\, oltre a promuovere la creazione d
 i siti web con una navigazione chiara e uniforme.\n\n\nL’Accessibility a
 ct è la norma che punta a portare più inclusività nella società: con q
 uesta legge le persone con disabilità potranno accedere più facilmente a
  prodotti e servizi informatici\, che dovranno avere specifici requisiti p
 er garantirne a tutti la fruizione\nRelatore: Roberto Scano\n[avatar user=
 "RobertoScano" size="thumbnail" align="left" /]\n\nPremiato come normatore
  tecnico da UNI nel 2015\, fino ad aprile 2020 ho svolto attività di supp
 orto all’Agenzia per l’Italia Digitale (AgID) come Esperto per la norm
 azione e diffusione delle competenze digitali. Tutt’oggi presiedo le com
 missioni UNINFO Attività professionali non regolamentate e e-accessibilit
 y\, tema di cui sono rappresentante dell’Italia nel tavolo Europeo WADEX
  (Web Accessibility Directive Expert Group).  Sono attualmente consulente
  di realtà pubbliche e private per l’adeguamento dei servizi ICT in mat
 eria di accessibilità\, tra cui la Presidenza della Repubblica Italiana i
 n tema di accessibilità IC nonché esperto Tecnico del Comitato Settorial
 e di Accreditamento Certificazione e Ispezione (CSA CI) per il settore ICT
  di Accredia\n\n\n&nbsp\;\n\n\n\n[WPCR_SHOW POSTID="6049" NUM="5" PAGINATE
 ="1" PERPAGE="5" SHOWFORM="1" HIDEREVIEWS="0" HIDERESPONSE="0" SNIPPET="" 
 MORE="" HIDECUSTOM="0" ]
ATTACH;FMTTYPE=image/jpeg:https://ecampus.aicel.org/wp-content/uploads/rob
 erto-scano.png
CATEGORIES:Formazione Professionisti eCommerce,Gli aspetti pratici
 dell’e-commerce
END:VEVENT
BEGIN:VTIMEZONE
TZID:Europe/Rome
X-LIC-LOCATION:Europe/Rome
BEGIN:DAYLIGHT
DTSTART:20240331T030000
TZOFFSETFROM:+0100
TZOFFSETTO:+0200
TZNAME:CEST
END:DAYLIGHT
END:VTIMEZONE
END:VCALENDAR