BEGIN:VCALENDAR
VERSION:2.0
PRODID:-//wp-events-plugin.com//7.2.3.1//EN
BEGIN:VEVENT
UID:58@ecampus.aicel.org
DTSTART:20150429T120000Z
DTEND:20150429T130000Z
DTSTAMP:20150423T224612Z
URL:https://ecampus.aicel.org/corsi/ecommerce-e-trattamento-dei-dati-la-si
 curezza-sul-web
SUMMARY:Ecommerce e trattamento dei dati: la sicurezza sul web - Torino\, S
 MAU - 29 Apr 15 14:00
DESCRIPTION:Il corso analizzerà le problematiche connesse al trattamento d
 ei dati personali fornendo i necessari orientamenti per una corretta organ
 izzazione e gestione dei dati
CATEGORIES:Gli aspetti pratici dell’e-commerce
LOCATION:Torino\, SMAU\, Via Nizza\, 294\, Torino\, TO\, 10126\, Piemonte\,
  Italia
GEO:45.0292479;7.66590599999995
X-APPLE-STRUCTURED-LOCATION;VALUE=URI;X-ADDRESS=Via Nizza\, 294\, Torino\, 
 TO\, 10126\, Piemonte\, Italia;X-APPLE-RADIUS=100;X-TITLE=Torino\, SMAU:ge
 o:45.0292479,7.66590599999995
END:VEVENT
END:VCALENDAR