BEGIN:VCALENDAR
VERSION:2.0
PRODID:-//wp-events-plugin.com//7.2.3.1//EN
BEGIN:VEVENT
UID:94@ecampus.aicel.org
DTSTART:20171026T093000Z
DTEND:20171026T102000Z
DTSTAMP:20171016T205238Z
URL:https://ecampus.aicel.org/corsi/ecommerce-di-successo-in-un-mercato-do
 minato-da-amazon
SUMMARY:UX\, CRO e automation marketing\, per moltiplicare il tasso di conv
 ersione del tuo ecommerce - Milano\, SMAU - 26 Ott 17 11:30
DESCRIPTION:\n\nRelatore: Luca Baldo\n\nLocation: Arena Commercio e Turismo
  - SMAU Milano\, FieramilanoCity - Padiglione 4\n\nOrario: 26 ottobre 201
 7 - ore 11:30\nNel momento in cui l'utente inizia a navigare in un ecommer
 ce si innescano nella sua mente tutta un serie di domande\, dubbi e paure 
 che se affrontate correttamente possono migliorare il tasso di conversione
  di un ecommerce.  Oltre ad eliminare i possibili attriti è poi necessar
 io prevedere una serie di "leve" per evitare che l'utente esca senza aver 
 compiuto almeno un azione.\n \nDurante l’intervento verrano chiariti i 
 concetti di UX\, CRO e automation marketing per poi simulare un “viaggio
  virtuale” del nostro possibile cliente all’intero di un ecommerce par
 tendo dal momento in cui accede fino alla fase di finalizzazione dell'acqu
 isto attraverso un percorso logico e aiutato da una serie di esempio prati
 ci. \n&nbsp\;\n\nISCRIZIONE GRATUITA dal portale SMAU: clicca qui!\n\n\n
 NON HAI IL BIGLIETTO PER SMAU?\nTE LO REGALA AICEL!\nL'ingresso a SMAU MIL
 ANO è offerto da AICEL - Associazione Italiana Commercio Elettronico.\nPe
 r entrare gratuitamente\, usa i nostri Biglietti VIP!
ATTACH;FMTTYPE=image/jpeg:https://ecampus.aicel.org/wp-content/uploads/AIC
 EL@SMAU.jpeg
CATEGORIES:Gli aspetti pratici dell’e-commerce,Vendere Grazie al
 Digitale
LOCATION:Milano\, SMAU\, Viale Scarampo\, Milano\, MI\, 20148\, Lombardia\,
  Italia
GEO:45.4847859;9.145501999999965
X-APPLE-STRUCTURED-LOCATION;VALUE=URI;X-ADDRESS=Viale Scarampo\, Milano\, M
 I\, 20148\, Lombardia\, Italia;X-APPLE-RADIUS=100;X-TITLE=Milano\, SMAU:ge
 o:45.4847859,9.145501999999965
END:VEVENT
END:VCALENDAR