BEGIN:VCALENDAR
VERSION:2.0
PRODID:-//wp-events-plugin.com//7.2.3.1//EN
BEGIN:VEVENT
UID:197@ecampus.aicel.org
DTSTART;TZID=Europe/Rome:20241024T090000
DTEND;TZID=Europe/Rome:20241024T130000
DTSTAMP:20240926T153734Z
URL:https://ecampus.aicel.org/corsi/e-next-il-futuro-delle-commerce
SUMMARY:E-Next: il futuro dell'e-commerce - Teatro di La Fabbrica di Lampad
 ine - 24 Ott 24 09:00
DESCRIPTION:E-Next: il Futuro dell’E-commerce punterà i riflettori sulle
  prossime tendenze e i possibili scenari futuri in ambito e-commerce. Si a
 lterneranno diverse realtà operanti nell’industry del commercio elettro
 nico\, ognuna con l’obiettivo di approfondire\nun aspetto specifico del 
 settore.\n\nUn’esclusiva opportunità di confronto tra professionisti co
 n momenti di networking finalizzati alla nascita di nuove collaborazioni.
ATTACH;FMTTYPE=image/jpeg:https://ecampus.aicel.org/wp-content/uploads/E-N
 ext.png
CATEGORIES:Convegni,Tavola Rotonda
LOCATION:Teatro di La Fabbrica di Lampadine\, Via Pescantina\,8\, Milano\, 
 MI\, 20162\, Italia
X-APPLE-STRUCTURED-LOCATION;VALUE=URI;X-ADDRESS=Via Pescantina\,8\, Milano\
 , MI\, 20162\, Italia;X-APPLE-RADIUS=100;X-TITLE=Teatro di La Fabbrica di 
 Lampadine:geo:0,0
END:VEVENT
BEGIN:VTIMEZONE
TZID:Europe/Rome
X-LIC-LOCATION:Europe/Rome
BEGIN:DAYLIGHT
DTSTART:20240331T030000
TZOFFSETFROM:+0100
TZOFFSETTO:+0200
TZNAME:CEST
END:DAYLIGHT
END:VTIMEZONE
END:VCALENDAR