BEGIN:VCALENDAR
VERSION:2.0
PRODID:-//wp-events-plugin.com//7.2.3.1//EN
BEGIN:VEVENT
UID:47@ecampus.aicel.org
DTSTART:20141010T070000Z
DTEND:20141010T160000Z
DTSTAMP:20140922T204422Z
URL:https://ecampus.aicel.org/corsi/e-commerce
SUMMARY:E-COMMERCE  - Bari - 10 Ott 14 09:00
DESCRIPTION:DOCENTE: Dott. Daniele Rutigliano\, CEO Aproweb\n\nOBIETTIVI: F
 ornire le basi teoriche e pratiche per gestire in autonomia una attività 
 di commercio elettronico.\n\nDURATA:  dalle ore 09:00 alle ore 13:00 e da
 lle ore 14:00 alle ore 18:00\n\nSEDE: Bari\, Rondò Hotel\, C.so Alcide De
  Gasperi\, 308\n\nPROGRAMMA:\n\n1° PARTE:\n\n	cos'è l' ecommerce: il com
 mercio elettronico e i suoi mille volti. L'acquisto e la vendita di prodot
 ti e servizi tramite internet.\n	l'effetto So.Lo.Mo.: il Social Local Mobi
 le come nuovo paradigma nello scenario del marketing e dell' e-commerce.\n
 	multicanalità: esempi e applicazioni dell'integrazione tra offline e onl
 ine.\n	la coda lunga: cos'è e quando applicarla in un sito di ecommerce.\
 n	l'ecommerce in Italia e all'estero: dati\, statistiche e report.\n	il dr
 op shipping: cos'è e come funziona.\n	come scegliere la web agency: diffe
 renze\, criticità\, portfolio e contratti.\n	come scegliere lo spedizioni
 ere: il motore dell'ecommerce\n\n2° PARTE:\n\n	come scegliere la piattafo
 rma web migliore: dalle soluzioni proprietarie ai CMS\, da Prestashop a Ma
 gento.\n	come scegliere l'hosting adatto: server virtuale VS cloud.\n	norm
 e e leggi dell'ecommerce: dalla legge sulla privacy alle condizioni di ven
 dita.\n	diritto di recesso: cos'è e quando si applica.\n	garanzie: tipolo
 gie e applicabilità.\n	concetti di usabilità: un sito semplice vende di 
 più. Best practices ed errori.\n	metodi di pagamento: PayPal.\n	essere ne
 lle prime posizioni di Google: differenze tra SEO e PPC.\n	strategie di we
 b marketing.\n\nLa quota di partecipazione è comprensiva di:\nWelcome Co
 ffee\nMateriale didattico\nAttestato di partecipazione\nSONO PREVISTE COND
 IZIONI AGEVOLATE PER I NUOVI SOCI AICEL\n\nPrenotazione alberghieraLa Segr
 eteria AICEL è a disposizione dei partecipanti per prenotazioni alberghie
 re a tariffe preferenziali nei limiti delle disponibilità.
CATEGORIES:Formazione Professionisti eCommerce,Gli aspetti pratici
 dell’e-commerce,Vendere Grazie al Digitale
LOCATION:Bari\, Rondò Hotel\, C.so Alcide De Gasperi\, 308\, Bari\, BA\, 7
 0125\, Italia
GEO:41.0938196;16.879791999999952
X-APPLE-STRUCTURED-LOCATION;VALUE=URI;X-ADDRESS=Rondò Hotel\, C.so Alcide 
 De Gasperi\, 308\, Bari\, BA\, 70125\, Italia;X-APPLE-RADIUS=100;X-TITLE=B
 ari:geo:41.0938196,16.879791999999952
END:VEVENT
END:VCALENDAR