BEGIN:VCALENDAR
VERSION:2.0
PRODID:-//wp-events-plugin.com//7.2.3.1//EN
BEGIN:VEVENT
UID:153@ecampus.aicel.org
DTSTART;TZID=Europe/Rome:20210618T110000
DTEND;TZID=Europe/Rome:20210618T120000
DTSTAMP:20210611T145136Z
URL:https://ecampus.aicel.org/corsi/e-commerce-in-ue-pronti-per-le-nuove-r
 egole-iva-in-vigore-dal-1-luglio
SUMMARY:E-Commerce in UE: Pronti per le nuove regole IVA in vigore dal 1° 
 luglio? -  - 18 Giu 21 11:00
DESCRIPTION:Le regole IVA per le vendite europee tramite e-commerce cambian
 o ancora e dobbiamo essere preparati a gestire i futuri clienti.
ATTACH;FMTTYPE=image/jpeg:https://ecampus.aicel.org/wp-content/uploads/AIC
 EL-Alessandra-Alberti-nl.png
CATEGORIES:Gli aspetti pratici dell’e-commerce
END:VEVENT
BEGIN:VTIMEZONE
TZID:Europe/Rome
X-LIC-LOCATION:Europe/Rome
BEGIN:DAYLIGHT
DTSTART:20210328T030000
TZOFFSETFROM:+0100
TZOFFSETTO:+0200
TZNAME:CEST
END:DAYLIGHT
END:VTIMEZONE
END:VCALENDAR