BEGIN:VCALENDAR
VERSION:2.0
PRODID:-//wp-events-plugin.com//7.2.3.1//EN
BEGIN:VEVENT
UID:175@ecampus.aicel.org
DTSTART;TZID=Europe/Rome:20231218T163000
DTEND;TZID=Europe/Rome:20231218T173000
DTSTAMP:20240212T000952Z
URL:https://ecampus.aicel.org/corsi/direttiva-omnibus-modifiche-e-impatti-
 negli-annunci-di-riduzione-di-prezzo
SUMMARY:Direttiva Omnibus: Modifiche e Impatti negli Annunci di Riduzione d
 i Prezzo -  - 18 Dic 23 16:30
DESCRIPTION:La Direttiva "Omnibus" ha introdotto importanti novità la gest
 ione ed esposizione dei prezzi in caso di sconti o promozioni. La scopo d
 ella direttiva è ottenere  informazioni più trasparenti e complete in m
 odo da evitare che i consumatori siano tratti in ingannati.\nNon essere a 
 norma\, ti espone ad un rischio sanzione amministrativa pecuniaria da 516
 € a 3.098€ a seconda della natura.\n\nIn questo webinar ci concentrere
 mo sui c.d. "annunci di riduzione di prezzo" ovvero gli sconti e le promoz
 ioni che i nostri eCommerce attivano nelle loro pianificazioni di marketin
 g. Questa sessione approfondirà le nuove disposizioni con l'obiettivo di
  fornire un quadro chiaro e pratico per le aziende e gli operatori del set
 tore.
ATTACH;FMTTYPE=image/jpeg:https://ecampus.aicel.org/wp-content/uploads/ANN
 UNCI-DI-PREZZO-ECAMPUS-Webinar.png
CATEGORIES:Gli aspetti pratici dell’e-commerce,Vendere Grazie al
 Digitale
END:VEVENT
BEGIN:VTIMEZONE
TZID:Europe/Rome
X-LIC-LOCATION:Europe/Rome
BEGIN:STANDARD
DTSTART:20231029T020000
TZOFFSETFROM:+0200
TZOFFSETTO:+0100
TZNAME:CET
END:STANDARD
END:VTIMEZONE
END:VCALENDAR