BEGIN:VCALENDAR
VERSION:2.0
PRODID:-//wp-events-plugin.com//7.2.3.1//EN
BEGIN:VEVENT
UID:188@ecampus.aicel.org
DTSTART;TZID=Europe/Rome:20240311T113000
DTEND;TZID=Europe/Rome:20240311T123000
DTSTAMP:20240306T102129Z
URL:https://ecampus.aicel.org/corsi/decreto-omnibus-come-gestire-prezzi-e-
 sconti
SUMMARY:Decreto OMNIBUS: come gestire prezzi e sconti -  - 11 Mar 24 11:30
DESCRIPTION:Regole per gli annunci di riduzione di prezzo. Corso mantenimen
 to Accredito Agenzie. Argomento: Omnibus e prezzi
ATTACH;FMTTYPE=image/jpeg:https://ecampus.aicel.org/wp-content/uploads/BRO
 GNOLI-OMNIBUS.png
CATEGORIES:Certifico - eCommerce Competente,Formazione Professionisti
 eCommerce
END:VEVENT
BEGIN:VTIMEZONE
TZID:Europe/Rome
X-LIC-LOCATION:Europe/Rome
BEGIN:STANDARD
DTSTART:20231029T020000
TZOFFSETFROM:+0200
TZOFFSETTO:+0100
TZNAME:CET
END:STANDARD
END:VTIMEZONE
END:VCALENDAR