BEGIN:VCALENDAR
VERSION:2.0
PRODID:-//wp-events-plugin.com//7.2.3.1//EN
BEGIN:VEVENT
UID:78@ecampus.aicel.org
DTSTART:20170623T130000Z
DTEND:20170623T170000Z
DTSTAMP:20231122T151709Z
URL:https://ecampus.aicel.org/corsi/data-protection-officer-sfida-e-opport
 unita
SUMMARY:Data Protection Officer: sfida e opportunità - Brescia\, Centro Pa
 olo VI - 23 Giu 17 15:00
DESCRIPTION:Un corso per scoprire il Nuovo Regolamento Privacy\, le novità
 \, gli obblighi e gli adempimenti\, con particolare riguardo alla nuova fi
 gura del Data Protection Officer\, delle sue responsabilità e delle oppor
 tunità di business.
ATTACH;FMTTYPE=image/jpeg:https://ecampus.aicel.org/wp-content/uploads/img
 434.jpg-738x334.png
CATEGORIES:Crediti Formativi per Avvocati,Formazione Professionisti
 eCommerce
LOCATION:Brescia\, Centro Paolo VI\, Via Gezio Calini\, 30\, Brescia\, BS\,
  25121\, Lombardia\, Italia
GEO:45.5347148;10.228363599999966
X-APPLE-STRUCTURED-LOCATION;VALUE=URI;X-ADDRESS=Via Gezio Calini\, 30\, Bre
 scia\, BS\, 25121\, Lombardia\, Italia;X-APPLE-RADIUS=100;X-TITLE=Brescia\
 , Centro Paolo VI:geo:45.5347148,10.228363599999966
END:VEVENT
END:VCALENDAR