BEGIN:VCALENDAR
VERSION:2.0
PRODID:-//wp-events-plugin.com//7.2.3.1//EN
BEGIN:VEVENT
UID:200@ecampus.aicel.org
DTSTART;TZID=Europe/Rome:20241020T180000
DTEND;TZID=Europe/Rome:20241022T180000
DTSTAMP:20240926T155221Z
URL:https://ecampus.aicel.org/corsi/dalla-direttiva-omnibus-al-digital-ser
 vice-act
SUMMARY:Dalla Direttiva Omnibus al Digital Service Act -  - 20 Ott 24 18:00
DESCRIPTION:Districarsi correttamente tra le numerose novità normative int
 rodotte negli ultimi tempi dal Legislatore europeo e dunque nostrano in ma
 teria di e-commerce è fondamentale non solo per mettersi al riparo dalle 
 sanzioni delle Autorità preposte\, ma anche per imbastire un’attività 
 di vendita online proficua e in grado di distinguersi dalla concorrenza.\n
 \nNe parliamo insieme a avv Giuseppe Brognoli alla prossima edizione di Ec
 ommerce forum.
ATTACH;FMTTYPE=image/jpeg:https://ecampus.aicel.org/wp-content/uploads/172
 0775557810.jpeg
CATEGORIES:Convegni,Gli aspetti pratici dell’e-commerce
END:VEVENT
BEGIN:VTIMEZONE
TZID:Europe/Rome
X-LIC-LOCATION:Europe/Rome
BEGIN:DAYLIGHT
DTSTART:20240331T030000
TZOFFSETFROM:+0100
TZOFFSETTO:+0200
TZNAME:CEST
END:DAYLIGHT
END:VTIMEZONE
END:VCALENDAR