BEGIN:VCALENDAR
VERSION:2.0
PRODID:-//wp-events-plugin.com//7.2.3.1//EN
BEGIN:VEVENT
UID:96@ecampus.aicel.org
DTSTART:20171212T130000Z
DTEND:20171212T163000Z
DTSTAMP:20231122T151643Z
URL:https://ecampus.aicel.org/corsi/dal-codice-privacy-al-regolamento-euro
 peo-sulla-protezione-dei-dati-personali-cosa-cambia-per-i-professionisti-e
 -per-i-loro-clienti
SUMMARY:Dal Codice Privacy al Regolamento Europeo sulla Protezione dei Dati
  Personali: cosa cambia per i professionisti e per i loro clienti? - Bresc
 ia\, Centro Paolo VI - 12 Dic 17 15:00
DESCRIPTION:Un convegno per scoprire il Nuovo Regolamento Privacy\, le novi
 tà\, gli obblighi e gli adempimenti\, con la possibilità di un incontro 
 diretto con professionisti del settore durante un'ampia tavola rotonda.
ATTACH;FMTTYPE=image/jpeg:https://ecampus.aicel.org/wp-content/uploads/gdp
 r-privacy.png
CATEGORIES:Crediti Formativi per Avvocati,Formazione Professionisti
 eCommerce
LOCATION:Brescia\, Centro Paolo VI\, Via Gezio Calini\, 30\, Brescia\, BS\,
  25121\, Lombardia\, Italia
GEO:45.5347148;10.228363599999966
X-APPLE-STRUCTURED-LOCATION;VALUE=URI;X-ADDRESS=Via Gezio Calini\, 30\, Bre
 scia\, BS\, 25121\, Lombardia\, Italia;X-APPLE-RADIUS=100;X-TITLE=Brescia\
 , Centro Paolo VI:geo:45.5347148,10.228363599999966
END:VEVENT
END:VCALENDAR