BEGIN:VCALENDAR
VERSION:2.0
PRODID:-//wp-events-plugin.com//7.2.3.1//EN
BEGIN:VEVENT
UID:31@ecampus.aicel.org
DTSTART:20130208T070000Z
DTEND:20130208T160000Z
DTSTAMP:20231209T152957Z
URL:https://ecampus.aicel.org/corsi/crea-il-tuo-ecommerce-con-prestashop-2
 0120208
SUMMARY:Crea il tuo eCommerce con Prestashop [Corso Base] - Desenzano\, Hot
 el Nazionale - 8 Feb 13 09:00
DESCRIPTION:Prestashop è uno shopping cart professionale open-source che p
 ermette la creazione di un eStore on line in maniera facile e completament
 e personalizzabile\, dal privato alla grande azienda.\nIl corso\, analizze
 rà tutti gli aspetti fondamentali partendo dall’installazione fino alla
  creazione di moduli avanzati. 
ATTACH;FMTTYPE=image/jpeg:https://ecampus.aicel.org/wp-content/uploads/pre
 stashop1.jpg
CATEGORIES:Formazione Professionisti eCommerce,Gli aspetti pratici
 dell’e-commerce
LOCATION:Desenzano\, Hotel Nazionale\, Viale Marconi\, 23\, Desenzano del G
 arda\, Brescia\, 25015\, Lombardia\, Italia
GEO:45.4684347;10.53603499999997
X-APPLE-STRUCTURED-LOCATION;VALUE=URI;X-ADDRESS=Viale Marconi\, 23\, Desenz
 ano del Garda\, Brescia\, 25015\, Lombardia\, Italia;X-APPLE-RADIUS=100;X-
 TITLE=Desenzano\, Hotel Nazionale:geo:45.4684347,10.53603499999997
END:VEVENT
END:VCALENDAR