BEGIN:VCALENDAR
VERSION:2.0
PRODID:-//wp-events-plugin.com//7.2.3.1//EN
BEGIN:VEVENT
UID:64@ecampus.aicel.org
DTSTART:20160523T070000Z
DTEND:20160523T150000Z
DTSTAMP:20160511T213912Z
URL:https://ecampus.aicel.org/corsi/corso-e-xcellence-come-cambiera-la-pri
 vacy
SUMMARY:[Corso “E-Xcellence”] Come cambierà la privacy? - Desenzano\, 
 Hotel Nazionale - 23 Mag 16 09:00
DESCRIPTION:Aicel\, nell’ambito della sua partecipazione alla Coalizione
  per le competenze Digitali (iniziativa promossa dall’AgID) presenta\nI
 l Regolamento Europeo sulla protezione dei dati personali: Come cambierà
  la privacy
ATTACH;FMTTYPE=image/jpeg:https://ecampus.aicel.org/wp-content/uploads/sec
 urity1.png
CATEGORIES:Formazione Professionisti eCommerce,Gli aspetti pratici
 dell’e-commerce
LOCATION:Desenzano\, Hotel Nazionale\, Viale Marconi\, 23\, Desenzano del G
 arda\, Brescia\, 25015\, Lombardia\, Italia
GEO:45.4684347;10.53603499999997
X-APPLE-STRUCTURED-LOCATION;VALUE=URI;X-ADDRESS=Viale Marconi\, 23\, Desenz
 ano del Garda\, Brescia\, 25015\, Lombardia\, Italia;X-APPLE-RADIUS=100;X-
 TITLE=Desenzano\, Hotel Nazionale:geo:45.4684347,10.53603499999997
END:VEVENT
END:VCALENDAR