BEGIN:VCALENDAR
VERSION:2.0
PRODID:-//wp-events-plugin.com//7.2.3.1//EN
BEGIN:VEVENT
UID:90@ecampus.aicel.org
DTSTART:20170724T070000Z
DTEND:20170725T160000Z
DTSTAMP:20231209T152126Z
URL:https://ecampus.aicel.org/corsi/corso-agenzie-accreditate-certifico-so
 nosicuro
SUMMARY:Corso Agenzie Accreditate Certifico - l'eCommerce competente - Bres
 cia Flero. Sede AICEL - 24 Lug 17 09:00
DESCRIPTION:L'iniziativa si occuperà di formare\, sostenere e supportare l
 e figure professionali che offrono i propri servizi al mondo ecommerce
ATTACH;FMTTYPE=image/jpeg:https://ecampus.aicel.org/wp-content/uploads/ACC
 REDITO-AGENZIE.jpg
CATEGORIES:Certifico - eCommerce Competente,Formazione Professionisti
 eCommerce
LOCATION:Brescia Flero. Sede AICEL\, Via F. Lana\, 5\, FLERO\, BS\, 25020\,
  Lombardia\, Italia
GEO:45.4839371;10.149830500000007
X-APPLE-STRUCTURED-LOCATION;VALUE=URI;X-ADDRESS=Via F. Lana\, 5\, FLERO\, B
 S\, 25020\, Lombardia\, Italia;X-APPLE-RADIUS=100;X-TITLE=Brescia Flero. S
 ede AICEL:geo:45.4839371,10.149830500000007
END:VEVENT
END:VCALENDAR