BEGIN:VCALENDAR
VERSION:2.0
PRODID:-//wp-events-plugin.com//7.2.3.1//EN
BEGIN:VEVENT
UID:91@ecampus.aicel.org
DTSTART:20170912T070000Z
DTEND:20170913T160000Z
DTSTAMP:20231209T152126Z
URL:https://ecampus.aicel.org/corsi/corso-agenzie-accreditate-certifico-so
 nosicuro-2
SUMMARY:Corso Agenzie Accreditate Certifico - l'eCommerce competente - Bres
 cia Flero. Sede AICEL - 12 Set 17 09:00
DESCRIPTION:\nDOCENTI: Dr. Luigi Cristiano\, Avv. Marcella Raglio\, Avv. Cr
 istina Rodondi\n\nDATA: 12-13 settembre 2017\n\nDURATA: dalle ore 09:00 a
 lle ore 18:00 (è prevista pausa pranzo)\n\nLOCATION: Sede AICEL\, Flero (
 BS)\n\nPOSTI DISPONIBILI: 10\n\nIL CORSO È RISERVATO ESCLUSIVAMENTE AD AG
 ENZIE E CONSULENTI IN POSSESSO DI PARTITA IVA.\n\n\nIl corso è destinato 
 agli operatori del web ovvero a chi professionalmente produca\, sviluppi\,
  implementi o installi software per il commercio elettronico e ai consulen
 ti e account che offrono i propri servizi e competenze alle aziende che vo
 gliono entrare nel mondo eCommerce o che vogliono migliorare la loro pres
 enza\, affinché lo facciano in modo corretto.\n\nAl termine del corso di 
 due giorni è previsto il rilascio di un attestato di frequenza all'indivi
 duo effettivamente partecipante.\n\nIn caso di superamento del test finale
 \, è previsto il rilascio dell'attestato di accreditamento all'azienda.\n
 \n&nbsp\;\n\nPROGRAMMA:\n\n 	Inquadramento normativo\;\n 	Condizioni di ve
 ndita\;\n 	Recesso\;\n 	Privacy\;\n 	Cookies\;\n 	Contrattualistica\;\n 	I
 ntegrazione software\;\n 	Case study\;\n 	Esame finale.\n\n\nA CHI SI RIVO
 LGE?\n\n 	le aziende che necessitano ed utilizzano un  sistema di shoppin
 g cart per effettuare vendite online\, affinché possano essere ragionevol
 mente certe della bontà del fornitore\;\n 	le web-agency e i consulenti c
 hiamati a pianificare sviluppare la presenza online attraverso sistemi di 
 shopping cart\, affinché possano avere un set di competenze base nonché 
 un supporto da parte dei consulenti aicel con servizi gratuiti e/o customi
 zzati sulle specifiche esigenze.\n\n&nbsp\;\n\nPREZZO: 400 EURO  GRATUITO
ATTACH;FMTTYPE=image/jpeg:https://ecampus.aicel.org/wp-content/uploads/ACC
 REDITO-AGENZIE.jpg
CATEGORIES:Certifico - eCommerce Competente,Formazione Professionisti
 eCommerce
LOCATION:Brescia Flero. Sede AICEL\, Via F. Lana\, 5\, FLERO\, BS\, 25020\,
  Lombardia\, Italia
GEO:45.4839371;10.149830500000007
X-APPLE-STRUCTURED-LOCATION;VALUE=URI;X-ADDRESS=Via F. Lana\, 5\, FLERO\, B
 S\, 25020\, Lombardia\, Italia;X-APPLE-RADIUS=100;X-TITLE=Brescia Flero. S
 ede AICEL:geo:45.4839371,10.149830500000007
END:VEVENT
END:VCALENDAR