BEGIN:VCALENDAR
VERSION:2.0
PRODID:-//wp-events-plugin.com//7.2.3.1//EN
BEGIN:VEVENT
UID:61@ecampus.aicel.org
DTSTART:20150714T070000Z
DTEND:20150715T160000Z
DTSTAMP:20150623T122049Z
URL:https://ecampus.aicel.org/corsi/cookie-come-sbrogliare-la-matassa
SUMMARY:Cookie – come sbrogliare la matassa! - Firenze\, SMAU - 14 Lug 15
  09:00
DESCRIPTION:Workshop eCommerce all'interno della Manifestazione SMAU FIREN
 ZE\nRelatore: Riccardo ABETI\n\n\nIl Provvedimento “Individuazione delle
  modalità semplificate per l’informativa e l’acquisizione del consens
 o per l’uso dei cookie” del maggio 2014\, è stato percepito con uno s
 pirito che è stato in larga parte frainteso\, partendo da questo assunto 
 occorre ricercare soluzioni che rispondano al dettato normativo senza appe
 santire le attività (siti di e-commerce\, portali\, altro) che si dotano 
 di strumenti per migliorare il rendimento commerciale e/o mediatico.\n\nIl
  tempo non è un problema. A parte il fatto che di tempo ce n’è stato m
 oltissimo atteso che il Provvedimento è di molti mesi fa\, tuttavia per s
 istemare l’informativa del sito\, l’eventuale banner e quant'altro\, b
 asta determinarsi a farlo\, leggersi il Provvedimento e seguire alcuni con
 sigli\, in questo modo gli utenti scopriranno che è utile affidarsi a per
 sone competenti solo nel caso vengano utilizzati cookie la cui funzione si
 a dubbia o la cui interazione risulti particolarmente complessa.\n\nParten
 do dal Provvedimento del Garante e passando per le FAQ e i successivi chia
 rimenti\, intendiamo illustrare come districarsi nel condurre il corretto 
 assessment del proprio sito e del proprio blog.\n\nTarget : CEO di piccole
  e medie imprese\, CIO\, webmaster\, legali\, consulenti marketing\n\nISCR
 IZIONE GRATUITA dal portale SMAU:  Iscrivi al workshop: cookie-come-sbrog
 liare-la-matassa/\n\n&nbsp\;\n\n\n\n[caption id="attachment_1526" align="a
 lignleft" width="150"] SMAU FIRENZE[/caption]\n\nNON HAI IL BIGLIETTO PER
  SMAU? TE LO REGALA AICEL!\nL'ingresso a SMAU FIRENZE è offerto da AICEL
  - Associazione Italiana Commercio Elettronico.\nPer entrare gratuitamente
 \, renderemo disponibili i biglietti VIP 
CATEGORIES:Gli aspetti pratici dell’e-commerce,Vendere Grazie al
 Digitale
LOCATION:Firenze\, SMAU\, Piazza Adua\, 1\, Firenze\, FI\, Toscana\, Italia
GEO:43.77804039999999;11.24964399999999
X-APPLE-STRUCTURED-LOCATION;VALUE=URI;X-ADDRESS=Piazza Adua\, 1\, Firenze\,
  FI\, Toscana\, Italia;X-APPLE-RADIUS=100;X-TITLE=Firenze\, SMAU:geo:43.77
 804039999999,11.24964399999999
END:VEVENT
END:VCALENDAR