BEGIN:VCALENDAR
VERSION:2.0
PRODID:-//wp-events-plugin.com//7.2.3.1//EN
BEGIN:VEVENT
UID:68@ecampus.aicel.org
DTSTART:20160610T133000Z
DTEND:20160610T143000Z
DTSTAMP:20231122T152512Z
URL:https://ecampus.aicel.org/corsi/condizioni-di-recesso-una-garanzia-anc
 he-per-il-merchant
SUMMARY:Condizioni Di Recesso: Una Garanzia (anche) Per Il Merchant - Event
 o On Line - 10 Giu 16 15:30
DESCRIPTION:Una corretta informazione sul diritto di recesso\, con la chiar
 a indicazione delle tempistiche\, delle modalità e delle eccezioni\, serv
 e ad evitare di esporre il nostro negozio a responsabilità che potrebbero
  protrarsi per mesi o addirittura per anni
ATTACH;FMTTYPE=image/jpeg:https://ecampus.aicel.org/wp-content/uploads/rec
 esso1.jpg
CATEGORIES:Gli aspetti pratici dell’e-commerce
LOCATION:Evento On Line\, Google\, Webinar [Meet]\, Italia
X-APPLE-STRUCTURED-LOCATION;VALUE=URI;X-ADDRESS=Google\, Webinar [Meet]\, I
 talia;X-APPLE-RADIUS=100;X-TITLE=Evento On Line:geo:0,0
END:VEVENT
END:VCALENDAR