BEGIN:VCALENDAR
VERSION:2.0
PRODID:-//wp-events-plugin.com//7.2.3.1//EN
BEGIN:VEVENT
UID:67@ecampus.aicel.org
DTSTART:20160617T130000Z
DTEND:20160617T140000Z
DTSTAMP:20231122T152542Z
URL:https://ecampus.aicel.org/corsi/come-tutelarsi-con-le-buone-condizioni
 -di-vendita
SUMMARY:Come Tutelarsi Con Le (Buone) Condizioni Di Vendita - Evento On Lin
 e - 17 Giu 16 15:00
DESCRIPTION:Delle buone condizioni di vendita tutelano merchant e consumato
 re. Scopriamo assieme quali sono le best practices 
ATTACH;FMTTYPE=image/jpeg:https://ecampus.aicel.org/wp-content/uploads/con
 dizionivendita1.jpg
CATEGORIES:Gli aspetti pratici dell’e-commerce
LOCATION:Evento On Line\, Google\, Webinar [Meet]\, Italia
X-APPLE-STRUCTURED-LOCATION;VALUE=URI;X-ADDRESS=Google\, Webinar [Meet]\, I
 talia;X-APPLE-RADIUS=100;X-TITLE=Evento On Line:geo:0,0
END:VEVENT
END:VCALENDAR