BEGIN:VCALENDAR
VERSION:2.0
PRODID:-//wp-events-plugin.com//7.2.3.1//EN
BEGIN:VEVENT
UID:137@ecampus.aicel.org
DTSTART;TZID=Europe/Rome:20201218T110000
DTEND;TZID=Europe/Rome:20201218T123000
DTSTAMP:20231122T153154Z
URL:https://ecampus.aicel.org/corsi/come-prepararsi-a-effettuare-scambi-co
 mmerciali-fra-italia-e-regno-unito-nel-nuovo-scenario-post-brexit
SUMMARY:Come prepararsi a effettuare scambi commerciali fra Italia e Regno 
 Unito nel nuovo scenario post-Brexit -  - 18 Dic 20 11:00
DESCRIPTION:Cosa significherà esportare negli UK dopo Brexit? Cosa cambia 
 per gli eCommerce? Gli esperti UPS ci spiegano quali saranno i cambiamenti
  doganali e fiscali che troveranno applicazione all’inizio del 2021.
ATTACH;FMTTYPE=image/jpeg:https://ecampus.aicel.org/wp-content/uploads/ups
 _logo_2020.png
CATEGORIES:Gli aspetti pratici dell’e-commerce
END:VEVENT
BEGIN:VTIMEZONE
TZID:Europe/Rome
X-LIC-LOCATION:Europe/Rome
BEGIN:STANDARD
DTSTART:20201025T020000
TZOFFSETFROM:+0200
TZOFFSETTO:+0100
TZNAME:CET
END:STANDARD
END:VTIMEZONE
END:VCALENDAR