BEGIN:VCALENDAR
VERSION:2.0
PRODID:-//wp-events-plugin.com//7.2.3.1//EN
BEGIN:VEVENT
UID:48@ecampus.aicel.org
DTSTART:20141022T080000Z
DTEND:20141022T090000Z
DTSTAMP:20141006T074131Z
URL:https://ecampus.aicel.org/corsi/come-monitorare-e-migliorare-la-reputa
 zione-di-un-e-commerce
SUMMARY:Come Monitorare e Migliorare La Reputazione di un e-Commerce - Mila
 no\, SMAU - 22 Ott 14 10:00
DESCRIPTION:I social media offrono un vasto ambiente dove gli utenti parlan
 o delle esperienze di acquisto online.\nQuali strumenti possono essere usa
 ti dai siti e-commerce per monitorarne la reputazione e migliorarla alla l
 uce dei cambiamenti delle piattaforme?\n\n&nbsp\;\n\nIscrizione direttamen
 te dal portale SMAU:\nhttp://www.smau.it/milano14/schedules/come-monitorar
 e-e-migliorare-la-reputazione-di-un-e-commerce/
CATEGORIES:Vendere Grazie al Digitale
LOCATION:Milano\, SMAU\, Viale Scarampo\, Milano\, MI\, 20148\, Lombardia\,
  Italia
GEO:45.4847859;9.145501999999965
X-APPLE-STRUCTURED-LOCATION;VALUE=URI;X-ADDRESS=Viale Scarampo\, Milano\, M
 I\, 20148\, Lombardia\, Italia;X-APPLE-RADIUS=100;X-TITLE=Milano\, SMAU:ge
 o:45.4847859,9.145501999999965
END:VEVENT
END:VCALENDAR