BEGIN:VCALENDAR
VERSION:2.0
PRODID:-//wp-events-plugin.com//7.2.3.1//EN
BEGIN:VEVENT
UID:130@ecampus.aicel.org
DTSTART;TZID=Europe/Rome:20201113T110000
DTEND;TZID=Europe/Rome:20201113T120000
DTSTAMP:20231122T153124Z
URL:https://ecampus.aicel.org/corsi/come-migliorare-le-conversioni-con-neu
 romarketing-e-usabilita
SUMMARY:Come Migliorare le Conversioni con Neuromarketing e Usabilità - We
 binar - ClickMeeting - 13 Nov 20 11:00
DESCRIPTION:consigli pratici per migliorare il tasso di conversione e fattu
 rato di piattaforme e-commerce\, attraverso l’utilizzo del neuromarketin
 g e di test di usabilità
CATEGORIES:Gli aspetti pratici dell’e-commerce,Vendere Grazie al
 Digitale
LOCATION:Webinar - ClickMeeting\, Webinar\, ClickMeeting\, Italia
X-APPLE-STRUCTURED-LOCATION;VALUE=URI;X-ADDRESS=Webinar\, ClickMeeting\, It
 alia;X-APPLE-RADIUS=100;X-TITLE=Webinar - ClickMeeting:geo:0,0
END:VEVENT
BEGIN:VTIMEZONE
TZID:Europe/Rome
X-LIC-LOCATION:Europe/Rome
BEGIN:STANDARD
DTSTART:20201025T020000
TZOFFSETFROM:+0200
TZOFFSETTO:+0100
TZNAME:CET
END:STANDARD
END:VTIMEZONE
END:VCALENDAR