BEGIN:VCALENDAR
VERSION:2.0
PRODID:-//wp-events-plugin.com//7.2.3.1//EN
BEGIN:VEVENT
UID:119@ecampus.aicel.org
DTSTART:20200616T093000Z
DTEND:20200616T103000Z
DTSTAMP:20231122T152941Z
URL:https://ecampus.aicel.org/corsi/come-incrementare-le-vendite-del-tuo-e
 commerce-grazie-allemail-marketing
SUMMARY:Come incrementare le vendite del tuo eCommerce grazie all'Email Mar
 keting - Webinar - ClickMeeting - 16 Giu 20 11:30
DESCRIPTION:Le email sono lo strumento per automatizzare il recupero degli 
 ordini\, perseguire la riattivazione di vecchi clienti e altre azioni che 
 possono incrementare il traffico
ATTACH;FMTTYPE=image/jpeg:https://ecampus.aicel.org/wp-content/uploads/ema
 ilchef.jpg
CATEGORIES:Gli aspetti pratici dell’e-commerce
LOCATION:Webinar - ClickMeeting\, Webinar\, ClickMeeting\, Italia
X-APPLE-STRUCTURED-LOCATION;VALUE=URI;X-ADDRESS=Webinar\, ClickMeeting\, It
 alia;X-APPLE-RADIUS=100;X-TITLE=Webinar - ClickMeeting:geo:0,0
END:VEVENT
END:VCALENDAR