BEGIN:VCALENDAR
VERSION:2.0
PRODID:-//wp-events-plugin.com//7.2.3.1//EN
BEGIN:VEVENT
UID:148@ecampus.aicel.org
DTSTART;TZID=Europe/Rome:20210409T110000
DTEND;TZID=Europe/Rome:20210409T120000
DTSTAMP:20231122T153205Z
URL:https://ecampus.aicel.org/corsi/come-far-decollare-il-tuo-e-commerce-c
 on-le-recensioni-clienti
SUMMARY:Come far decollare il tuo e-commerce con le recensioni clienti -  -
  9 Apr 21 11:00
DESCRIPTION:Le recensioni sono una risorsa fondamentale per ogni e-commerce
 : in questa fase di incertezza\, le opinioni dei tuoi clienti rappresentan
 o una fonte preziosa in grado di rassicurare i consumatori e popolare le s
 chede prodotto del tuo e-commerce con contenuti unici e di valore.\n\nLe r
 ecensioni però devono essere sollecitate dopo l'acquisto per ricevere sol
 o feedback autentici dai tuoi clienti reali e per avere il controllo della
  tua reputazione online.\n\nDurante il webinar vedremo insieme a Sabrina A
 gasucci\, Sales Executive di Recensioni Verificate\, tutti gli step di una
  strategia di recensioni vincente che possa aiutarti a:\n\n 	aumentare le 
 conversioni del tuo e-commerce\n 	migliorare il posizionamento organico di
  sito e pagine prodotto\n 	ottimizzare le performance delle campagne Ads e
  Google Shopping\n 	analizzare il rendimento di KPI e prodotti\n 	rafforza
 re il rapporto di fiducia con i tuoi clienti\n\nRelatrice: Sabrina Agasucc
 i\nSales Executive per Recensioni Verificate – Gruppo Skeepers (Net Revi
 ews\, Teester\, Mediatech).\n\nDa 5 anni in azienda\, ho una grande conosc
 enza di tutti i meccanismi della nostra soluzione.\nNon sono esclusivament
 e un Sales\, perché mi occupo sia di guidare i nostri clienti nella scelt
 a della strategia migliore\, che di gestire tutto il mio portfolio e di ra
 ppresentare Recensioni Verificate tramite comunicazione formativa via webi
 nar e agli eventi eCommerce e Retail.\n\nHo iniziato a lavorare dal nostro
  headquarter di Marsiglia\, per spostarmi ad inizio 2019 nella nostra nuov
 a sede di Milano e proseguire l’avventura iniziata dalla costruzione di 
 un nuovo team\, tutto italiano\, grazie all’aumento dei brand che al gio
 rno d’oggi si affidano a Recensioni Verificate.\n\n\n\n[WPCR_INSERT]\n\n
 \n&nbsp\;
ATTACH;FMTTYPE=image/jpeg:https://ecampus.aicel.org/wp-content/uploads/aga
 succi-r.png
CATEGORIES:Gli aspetti pratici dell’e-commerce
END:VEVENT
BEGIN:VTIMEZONE
TZID:Europe/Rome
X-LIC-LOCATION:Europe/Rome
BEGIN:DAYLIGHT
DTSTART:20210328T030000
TZOFFSETFROM:+0100
TZOFFSETTO:+0200
TZNAME:CEST
END:DAYLIGHT
END:VTIMEZONE
END:VCALENDAR