BEGIN:VCALENDAR
VERSION:2.0
PRODID:-//wp-events-plugin.com//7.2.3.1//EN
BEGIN:VEVENT
UID:84@ecampus.aicel.org
DTSTART:20170609T070000Z
DTEND:20170609T110000Z
DTSTAMP:20231122T151426Z
URL:https://ecampus.aicel.org/corsi/come-e-cosa-cambiera-nella-gestione-de
 i-dati-con-il-nuovo-regolamento-europeo
SUMMARY:Come e cosa cambierà nella gestione dei dati con il nuovo Regolame
 nto Europeo - Brescia Flero. Sede AICEL - 9 Giu 17 09:00
DESCRIPTION:Il Nuovo Regolamento Europeo (GDPR) n.679/2016 è in vigore dal
  25/05/2016\; adesso dobbiamo conoscere meglio le novità che verranno int
 rodotte: DPO\, Privacy by Design e by Default\, diritto all'oblio\, data b
 reach\, profilazione\, informativa e flag.
ATTACH;FMTTYPE=image/jpeg:https://ecampus.aicel.org/wp-content/uploads/GDP
 R.jpg
CATEGORIES:Gli aspetti pratici dell’e-commerce
LOCATION:Brescia Flero. Sede AICEL\, Via F. Lana\, 5\, FLERO\, BS\, 25020\,
  Lombardia\, Italia
GEO:45.4839371;10.149830500000007
X-APPLE-STRUCTURED-LOCATION;VALUE=URI;X-ADDRESS=Via F. Lana\, 5\, FLERO\, B
 S\, 25020\, Lombardia\, Italia;X-APPLE-RADIUS=100;X-TITLE=Brescia Flero. S
 ede AICEL:geo:45.4839371,10.149830500000007
END:VEVENT
END:VCALENDAR