BEGIN:VCALENDAR
VERSION:2.0
PRODID:-//wp-events-plugin.com//7.2.3.1//EN
BEGIN:VEVENT
UID:185@ecampus.aicel.org
DTSTART;TZID=Europe/Rome:20240321T140000
DTEND;TZID=Europe/Rome:20240321T150000
DTSTAMP:20240320T153747Z
URL:https://ecampus.aicel.org/corsi/come-analizzare-le-performance-di-un-e
 -commerce
SUMMARY:Come analizzare le performance di un e-commerce con l'Ai -  - 21 Ma
 r 24 14:00
DESCRIPTION:L'analisi dei dati con l'Ai: dal monitoraggio performances agli
  insight. Saper interpretare i dati per migliorare il business online
ATTACH;FMTTYPE=image/jpeg:https://ecampus.aicel.org/wp-content/uploads/per
 formance-ecommerce-1.png
CATEGORIES:Gli aspetti pratici dell’e-commerce
END:VEVENT
BEGIN:VTIMEZONE
TZID:Europe/Rome
X-LIC-LOCATION:Europe/Rome
BEGIN:STANDARD
DTSTART:20231029T020000
TZOFFSETFROM:+0200
TZOFFSETTO:+0100
TZNAME:CET
END:STANDARD
END:VTIMEZONE
END:VCALENDAR