BEGIN:VCALENDAR
VERSION:2.0
PRODID:-//wp-events-plugin.com//7.2.3.1//EN
BEGIN:VEVENT
UID:150@ecampus.aicel.org
DTSTART;TZID=Europe/Rome:20210605T103000
DTEND;TZID=Europe/Rome:20210605T113000
DTSTAMP:20210604T200959Z
URL:https://ecampus.aicel.org/corsi/clarity-il-vostro-sito-agli-occhi-degl
 i-utenti
SUMMARY:Clarity: il vostro sito agli occhi degli utenti -  - 5 Giu 21 10:30
DESCRIPTION:Scopriamo Microsoft Clarity: strumento che consente di monitora
 re l’attività dell’utente sul tuo sito ecommerce\, di registrare la s
 ua attività e restituire delle rappresentazioni del suo modo di comportar
 si.
ATTACH;FMTTYPE=image/jpeg:https://ecampus.aicel.org/wp-content/uploads/AIC
 EL-Webinar-4-giugno-Clarity.png
CATEGORIES:Gli aspetti pratici dell’e-commerce
END:VEVENT
BEGIN:VTIMEZONE
TZID:Europe/Rome
X-LIC-LOCATION:Europe/Rome
BEGIN:DAYLIGHT
DTSTART:20210328T030000
TZOFFSETFROM:+0100
TZOFFSETTO:+0200
TZNAME:CEST
END:DAYLIGHT
END:VTIMEZONE
END:VCALENDAR