BEGIN:VCALENDAR
VERSION:2.0
PRODID:-//wp-events-plugin.com//7.2.3.1//EN
BEGIN:VEVENT
UID:181@ecampus.aicel.org
DTSTART;TZID=Europe/Rome:20240411T103000
DTEND;TZID=Europe/Rome:20240411T113000
DTSTAMP:20240409T070852Z
URL:https://ecampus.aicel.org/corsi/checklist-seo-e-commerce
SUMMARY:Checklist SEO per e-commerce -  - 11 Apr 24 10:30
DESCRIPTION:SEO & eCommerce: quali sono le operazioni da compiere alla mess
 a online del tuo sito? Quali le azioni che possono essere svolte saltuaria
 mente e quali da compiere ogni volta che vengono caricati nuovi prodotti o
  categorie merceologiche?\n\necco la TO DO LIST
ATTACH;FMTTYPE=image/jpeg:https://ecampus.aicel.org/wp-content/uploads/Web
 inar-gratuito-1000-×-523-px-1.png
CATEGORIES:Gli aspetti pratici dell’e-commerce
END:VEVENT
BEGIN:VTIMEZONE
TZID:Europe/Rome
X-LIC-LOCATION:Europe/Rome
BEGIN:DAYLIGHT
DTSTART:20240331T030000
TZOFFSETFROM:+0100
TZOFFSETTO:+0200
TZNAME:CEST
END:DAYLIGHT
END:VTIMEZONE
END:VCALENDAR