BEGIN:VCALENDAR
VERSION:2.0
PRODID:-//wp-events-plugin.com//7.2.3.1//EN
BEGIN:VEVENT
UID:169@ecampus.aicel.org
DTSTART;TZID=Europe/Rome:20230131T150000
DTEND;TZID=Europe/Rome:20230131T180000
DTSTAMP:20231122T153328Z
URL:https://ecampus.aicel.org/corsi/cerchi-un-modo-per-realizzare-i-tuoi-s
 ogni
SUMMARY:Cerchi un Modo per Realizzare i Tuoi Sogni? -  - 31 Gen 23 15:00
DESCRIPTION:Webinar informativo sulle opportunità offerte dal Bando Resto 
 al Sud
ATTACH;FMTTYPE=image/jpeg:https://ecampus.aicel.org/wp-content/uploads/res
 to-al-sud-1-c-400x276-2.png
CATEGORIES:Gli aspetti pratici dell’e-commerce
END:VEVENT
BEGIN:VTIMEZONE
TZID:Europe/Rome
X-LIC-LOCATION:Europe/Rome
BEGIN:STANDARD
DTSTART:20221030T020000
TZOFFSETFROM:+0200
TZOFFSETTO:+0100
TZNAME:CET
END:STANDARD
END:VTIMEZONE
END:VCALENDAR