BEGIN:VCALENDAR
VERSION:2.0
PRODID:-//wp-events-plugin.com//7.2.3.1//EN
BEGIN:VEVENT
UID:41@ecampus.aicel.org
DTSTART:20141114T070000Z
DTEND:20141114T110000Z
DTSTAMP:20141124T132641Z
URL:https://ecampus.aicel.org/corsi/aspetti-iva-del-commercio-elettronico
SUMMARY:[Corso Gratuito] Aspetti IVA del Commercio Elettronico - Trattament
 o dati sul web - Desenzano\, Hotel Nazionale - 14 Nov 14 09:00
DESCRIPTION:Corso Gratuito\nAspetti Iva nel commercio elettronico - Tratta
 mento dei Dati Personali nel Commercio Elettronico: Come Gestire la Privac
 y\nDATA: 14 NOVEMBRE 2014\n\nLOCATION: Desenzano D/G (BS)\, Hotel Nazional
 e\, Viale Marconi 23\nDOCENTE: \nGiuseppe Garufi - Studio PG Associati\nP
 atrizia Meo Consulente Privacy e Data Protection Officer\nI Sessione \nI
 l corso è finalizzato a fornire cenni su tutti gli aspetti IVA che regola
 no l’attività di e-commerce\, favorendo la conoscenza ed il rispetto de
 i relativi adempimenti fiscali\, al fine di impostare correttamente le pro
 cedure aziendali e di porre in essere atti di miglioramento di quelle esis
 tenti\, mettendo in luce eventuali spazi di intervento indirizzati ad orie
 ntare le scelte aziendali fiscali.\n&nbsp\;\n\nII sessione\n\nTrattamento 
 dei Dati Personali nel Commercio Elettronico: Come Gestire la Privacy\n\nO
 BIETTIVI: Ponendosi nell’ottica dell’azienda che opera su internet\, 
 l’intervento analizzerà le problematiche connesse al trattamento dei da
 ti personali fornendo i necessari orientamenti sugli adempimenti richiesti
  dalla normativa in vigore.\n\n&nbsp\;\n\n&nbsp\;
CATEGORIES:Gli aspetti pratici dell’e-commerce
LOCATION:Desenzano\, Hotel Nazionale\, Viale Marconi\, 23\, Desenzano del G
 arda\, Brescia\, 25015\, Lombardia\, Italia
GEO:45.4684347;10.53603499999997
X-APPLE-STRUCTURED-LOCATION;VALUE=URI;X-ADDRESS=Viale Marconi\, 23\, Desenz
 ano del Garda\, Brescia\, 25015\, Lombardia\, Italia;X-APPLE-RADIUS=100;X-
 TITLE=Desenzano\, Hotel Nazionale:geo:45.4684347,10.53603499999997
END:VEVENT
END:VCALENDAR