BEGIN:VCALENDAR
VERSION:2.0
PRODID:-//wp-events-plugin.com//7.2.3.1//EN
BEGIN:VEVENT
UID:123@ecampus.aicel.org
DTSTART;TZID=Europe/Rome:20200715T180000
DTEND;TZID=Europe/Rome:20200715T190000
DTSTAMP:20231122T152953Z
URL:https://ecampus.aicel.org/corsi/aperitivo-ecommerce-vendere-vino-on-li
 ne
SUMMARY:Aperitivo eCommerce - vendere vino on-line -  - 15 Lug 20 18:00
DESCRIPTION:Un webinar gratuito dedicato al settore Wine & Beverage per app
 rendere gli aspetti peculiari della vendita on-line.
ATTACH;FMTTYPE=image/jpeg:https://ecampus.aicel.org/wp-content/uploads/ape
 ritivo-ecommerce.jpg
CATEGORIES:Gli aspetti pratici dell’e-commerce,Vendere Grazie al
 Digitale
LOCATION:https://aicel.clickmeeting.com/aperitivo-ecommerce
END:VEVENT
BEGIN:VTIMEZONE
TZID:Europe/Rome
X-LIC-LOCATION:Europe/Rome
BEGIN:DAYLIGHT
DTSTART:20200329T030000
TZOFFSETFROM:+0100
TZOFFSETTO:+0200
TZNAME:CEST
END:DAYLIGHT
END:VTIMEZONE
END:VCALENDAR