BEGIN:VCALENDAR
VERSION:2.0
PRODID:-//wp-events-plugin.com//7.2.3.1//EN
BEGIN:VEVENT
UID:182@ecampus.aicel.org
DTSTART;TZID=Europe/Rome:20240229T093000
DTEND;TZID=Europe/Rome:20240229T103000
DTSTAMP:20240306T102029Z
URL:https://ecampus.aicel.org/corsi/analisi-del-portafoglio-clienti-fideli
 zzazione-sviluppo-e-acquisizione
SUMMARY:Analisi del portafoglio clienti: fidelizzazione\, sviluppo e acquis
 izione -  - 29 Feb 24 09:30
DESCRIPTION:Per un e-commerce avere un'idea chiara della composizione del p
 ortafoglio clienti è strategico. Permette di avere piani promozionali dif
 ferenziati e di acquisire nuovi clienti a maggior valore aggiunto\, miglio
 rando la marginalità.
ATTACH;FMTTYPE=image/jpeg:https://ecampus.aicel.org/wp-content/uploads/fab
 io-scafoletti-WEBINAR.png
CATEGORIES:Gli aspetti pratici dell’e-commerce,Vendere Grazie al
 Digitale
END:VEVENT
BEGIN:VTIMEZONE
TZID:Europe/Rome
X-LIC-LOCATION:Europe/Rome
BEGIN:STANDARD
DTSTART:20231029T020000
TZOFFSETFROM:+0200
TZOFFSETTO:+0100
TZNAME:CET
END:STANDARD
END:VTIMEZONE
END:VCALENDAR